BEGIN:VCALENDAR
VERSION:2.0
PRODID:-//TREBIC - ECPv6.15.20//NONSGML v1.0//EN
CALSCALE:GREGORIAN
METHOD:PUBLISH
X-WR-CALNAME:TREBIC
X-ORIGINAL-URL:https://trebic.org
X-WR-CALDESC:Events for TREBIC
REFRESH-INTERVAL;VALUE=DURATION:PT1H
X-Robots-Tag:noindex
X-PUBLISHED-TTL:PT1H
BEGIN:VTIMEZONE
TZID:America/New_York
BEGIN:DAYLIGHT
TZOFFSETFROM:-0500
TZOFFSETTO:-0400
TZNAME:EDT
DTSTART:20230312T070000
END:DAYLIGHT
BEGIN:STANDARD
TZOFFSETFROM:-0400
TZOFFSETTO:-0500
TZNAME:EST
DTSTART:20231105T060000
END:STANDARD
BEGIN:DAYLIGHT
TZOFFSETFROM:-0500
TZOFFSETTO:-0400
TZNAME:EDT
DTSTART:20240310T070000
END:DAYLIGHT
BEGIN:STANDARD
TZOFFSETFROM:-0400
TZOFFSETTO:-0500
TZNAME:EST
DTSTART:20241103T060000
END:STANDARD
BEGIN:DAYLIGHT
TZOFFSETFROM:-0500
TZOFFSETTO:-0400
TZNAME:EDT
DTSTART:20250309T070000
END:DAYLIGHT
BEGIN:STANDARD
TZOFFSETFROM:-0400
TZOFFSETTO:-0500
TZNAME:EST
DTSTART:20251102T060000
END:STANDARD
END:VTIMEZONE
BEGIN:VEVENT
DTSTART;TZID=America/New_York:20240530T170000
DTEND;TZID=America/New_York:20240530T190000
DTSTAMP:20260422T120958
CREATED:20231219T200010Z
LAST-MODIFIED:20231219T200010Z
UID:51568-1717088400-1717095600@trebic.org
SUMMARY:TREBIC's Winston Salem Pig Poultry & Politics
DESCRIPTION:
URL:https://trebic.org/event/trebics-winston-salem-pig-poultry-politics/
CATEGORIES:Alert,May 2024
END:VEVENT
BEGIN:VEVENT
DTSTART;TZID=America/New_York:20240508T160000
DTEND;TZID=America/New_York:20240508T170000
DTSTAMP:20260422T120958
CREATED:20231219T194658Z
LAST-MODIFIED:20231219T194658Z
UID:51543-1715184000-1715187600@trebic.org
SUMMARY:TREBIC May Membership Meeting
DESCRIPTION:
URL:https://trebic.org/event/trebic-may-membership-meeting/
CATEGORIES:Alert,May 2024,Member Calendar
END:VEVENT
BEGIN:VEVENT
DTSTART;TZID=America/New_York:20240508T150000
DTEND;TZID=America/New_York:20240508T160000
DTSTAMP:20260422T120958
CREATED:20231219T194602Z
LAST-MODIFIED:20231219T194602Z
UID:51541-1715180400-1715184000@trebic.org
SUMMARY:TREBIC Board of Directors Meeting (Tentative)
DESCRIPTION:
URL:https://trebic.org/event/trebic-board-of-directors-meeting-tentative-2/
CATEGORIES:Alert,May 2024,Member Calendar
END:VEVENT
END:VCALENDAR